
BEGIN:VCALENDAR
VERSION:2.0
PRODID:-//Lausanne Amis-Gymnastes - ECPv6.10.1.1//NONSGML v1.0//EN
CALSCALE:GREGORIAN
METHOD:PUBLISH
X-ORIGINAL-URL:https://www.lausanneamisgym.ch
X-WR-CALDESC:Évènements pour Lausanne Amis-Gymnastes
REFRESH-INTERVAL;VALUE=DURATION:PT1H
X-Robots-Tag:noindex
X-PUBLISHED-TTL:PT1H
BEGIN:VTIMEZONE
TZID:Europe/Zurich
BEGIN:DAYLIGHT
TZOFFSETFROM:+0100
TZOFFSETTO:+0200
TZNAME:CEST
DTSTART:20250330T010000
END:DAYLIGHT
BEGIN:STANDARD
TZOFFSETFROM:+0200
TZOFFSETTO:+0100
TZNAME:CET
DTSTART:20251026T010000
END:STANDARD
END:VTIMEZONE
BEGIN:VEVENT
DTSTART;VALUE=DATE:20250524
DTEND;VALUE=DATE:20250526
DTSTAMP:20260423T105539
CREATED:20250404T123541Z
LAST-MODIFIED:20250421T111915Z
UID:6570-1748044800-1748217599@www.lausanneamisgym.ch
SUMMARY:Championnat vaudois gymnastique et agrès de société à Pully
DESCRIPTION:Horaire-samedi-24-mai-2025 \nHoraire-dimanche-25-mai-2025
URL:https://www.lausanneamisgym.ch/agenda/championnat-vaudois-gymnastique-et-agres-de-societe-a-pully/
END:VEVENT
END:VCALENDAR