
BEGIN:VCALENDAR
VERSION:2.0
PRODID:-//Lausanne Amis-Gymnastes - ECPv6.10.1.1//NONSGML v1.0//EN
CALSCALE:GREGORIAN
METHOD:PUBLISH
X-ORIGINAL-URL:https://www.lausanneamisgym.ch
X-WR-CALDESC:Évènements pour Lausanne Amis-Gymnastes
REFRESH-INTERVAL;VALUE=DURATION:PT1H
X-Robots-Tag:noindex
X-PUBLISHED-TTL:PT1H
BEGIN:VTIMEZONE
TZID:Europe/Zurich
BEGIN:DAYLIGHT
TZOFFSETFROM:+0100
TZOFFSETTO:+0200
TZNAME:CEST
DTSTART:20270328T010000
END:DAYLIGHT
BEGIN:STANDARD
TZOFFSETFROM:+0200
TZOFFSETTO:+0100
TZNAME:CET
DTSTART:20271031T010000
END:STANDARD
END:VTIMEZONE
BEGIN:VEVENT
DTSTART;TZID=Europe/Zurich:20270710T080000
DTEND;TZID=Europe/Zurich:20270718T170000
DTSTAMP:20260419T231510
CREATED:20260402T081051Z
LAST-MODIFIED:20260402T081051Z
UID:7221-1815206400-1815930000@www.lausanneamisgym.ch
SUMMARY:Gymnaestrada Lisbonne
DESCRIPTION:
URL:https://www.lausanneamisgym.ch/agenda/gymnaestrada-lisbonne/
END:VEVENT
END:VCALENDAR