
BEGIN:VCALENDAR
VERSION:2.0
PRODID:-//Lausanne Amis-Gymnastes - ECPv6.10.1.1//NONSGML v1.0//EN
CALSCALE:GREGORIAN
METHOD:PUBLISH
X-WR-CALNAME:Lausanne Amis-Gymnastes
X-ORIGINAL-URL:https://www.lausanneamisgym.ch
X-WR-CALDESC:Évènements pour Lausanne Amis-Gymnastes
REFRESH-INTERVAL;VALUE=DURATION:PT1H
X-Robots-Tag:noindex
X-PUBLISHED-TTL:PT1H
BEGIN:VTIMEZONE
TZID:Europe/Zurich
BEGIN:DAYLIGHT
TZOFFSETFROM:+0100
TZOFFSETTO:+0200
TZNAME:CEST
DTSTART:20250330T010000
END:DAYLIGHT
BEGIN:STANDARD
TZOFFSETFROM:+0200
TZOFFSETTO:+0100
TZNAME:CET
DTSTART:20251026T010000
END:STANDARD
END:VTIMEZONE
BEGIN:VEVENT
DTSTART;VALUE=DATE:20250823
DTEND;VALUE=DATE:20250824
DTSTAMP:20260421T135000
CREATED:20250404T124032Z
LAST-MODIFIED:20250404T124122Z
UID:6572-1755907200-1755993599@www.lausanneamisgym.ch
SUMMARY:Journée récréative
DESCRIPTION:
URL:https://www.lausanneamisgym.ch/agenda/journee-recreative/
END:VEVENT
BEGIN:VEVENT
DTSTART;VALUE=DATE:20250827
DTEND;VALUE=DATE:20250828
DTSTAMP:20260421T135000
CREATED:20250404T124215Z
LAST-MODIFIED:20250404T124223Z
UID:6576-1756252800-1756339199@www.lausanneamisgym.ch
SUMMARY:Sortie honoraires et honoraires jubilaires à Pully
DESCRIPTION:
URL:https://www.lausanneamisgym.ch/agenda/sortie-honoraires-et-honoraires-jubilaires-a-pully/
END:VEVENT
END:VCALENDAR